BEGIN:VCALENDAR
VERSION:2.0
PRODID:-//eventon.com NONSGML v1.0//EN
CALSCALE:GREGORIAN
METHOD:PUBLISH
BEGIN:VEVENT
UID:69e8a5e8e8e8b
DTSTAMP:20260422T104144Z
DTSTART:20260530T090000Z
DTEND:20260530T170000Z
LOCATION:DE - Region Wangen/Friedrichshafen
SUMMARY:Guter Start – klarer Trail in DE-Wangen
DESCRIPTION:Tagesseminar Ein erfolgreicher Trail beginnt mit einem sauberen
  Start – doch was passiert eigentlich genau in den ersten Sekunden? In di
 esem Tageseminar mit Kerstin Hennings dreht sich alles um den sicheren Umga
 ng mit dem Geruchsträger\,  das Erkennen von Trailverhalten und die Optimi
 erung der Startsituation. Seminarschwerpunkte: Wie bereite ich den Geruchst
 räger[..]\nhttps://shz-suchhundezentrum.ch/events/guter-start-klarer-trail
 -2/
URL:https://shz-suchhundezentrum.ch/events/guter-start-klarer-trail-2/
END:VEVENT
END:VCALENDAR